BEGIN:VCALENDAR
VERSION:2.0
PRODID:-//horsealert.local//NONSGML kigkonsult.se iCalcreator 2.10.5//
CALSCALE:GREGORIAN
X-WR-TIMEZONE:Europe/Dublin
BEGIN:VTIMEZONE
TZID:Etc/GMT-1
BEGIN:STANDARD
DTSTART:20010101T000000
TZOFFSETFROM:+0100
TZOFFSETTO:+0100
TZNAME:GMT +01:00
END:STANDARD
END:VTIMEZONE
BEGIN:VEVENT
UID:20260424T051705CEST-01090unhLJ@horsealert.local
DTSTAMP:20260424T030405Z
CATEGORIES:Horse Alerts
DESCRIPTION:Socialites Zero Stoptober Apprentice Jockeys\' Training Series 
 Final Handicap \(Div 2\)
DTSTART:20141025T173000
LOCATION:England
SUMMARY:Horse Racing:Socialites Zero Stoptober Apprentice Jockeys\' Trainin
 g Series Final Handicap \(Div 2\)
END:VEVENT
END:VCALENDAR
