BEGIN:VCALENDAR
VERSION:2.0
PRODID:-//horsealert.local//NONSGML kigkonsult.se iCalcreator 2.10.5//
CALSCALE:GREGORIAN
X-WR-TIMEZONE:Europe/Dublin
BEGIN:VTIMEZONE
TZID:Etc/GMT-1
BEGIN:STANDARD
DTSTART:20010101T000000
TZOFFSETFROM:+0100
TZOFFSETTO:+0100
TZNAME:GMT +01:00
END:STANDARD
END:VTIMEZONE
BEGIN:VEVENT
UID:20260424T051709CEST-7469AM0ap6@horsealert.local
DTSTAMP:20260424T030409Z
CATEGORIES:Horse Alerts
DESCRIPTION:Worthington\'s Highfield Social Club EBF Stallions Handicap \(S
 tr\)
DTSTART:20141025T164000
LOCATION:England
SUMMARY:Horse Racing:Worthington\'s Highfield Social Club EBF Stallions Han
 dicap \(Str\)
END:VEVENT
END:VCALENDAR
