BEGIN:VCALENDAR
VERSION:2.0
PRODID:-//horsealert.local//NONSGML kigkonsult.se iCalcreator 2.10.5//
CALSCALE:GREGORIAN
X-WR-TIMEZONE:Europe/Dublin
BEGIN:VTIMEZONE
TZID:Etc/GMT-1
BEGIN:STANDARD
DTSTART:20010101T000000
TZOFFSETFROM:+0100
TZOFFSETTO:+0100
TZNAME:GMT +01:00
END:STANDARD
END:VTIMEZONE
BEGIN:VEVENT
UID:20260424T064301CEST-8919VM3twV@horsealert.local
DTSTAMP:20260424T040401Z
CATEGORIES:Horse Alerts
DESCRIPTION:Worthington\'s Burlison Inns Stakes \(Registered As The St Simo
 n Stakes\) \(Group 3\)
DTSTART:20141025T142000
LOCATION:England
SUMMARY:Horse Racing:Worthington\'s Burlison Inns Stakes \(Registered As Th
 e St Simon Stakes\) \(Group 3\)
END:VEVENT
END:VCALENDAR
