BEGIN:VCALENDAR
VERSION:2.0
PRODID:-//horsealert.local//NONSGML kigkonsult.se iCalcreator 2.10.5//
CALSCALE:GREGORIAN
X-WR-TIMEZONE:Europe/Dublin
BEGIN:VTIMEZONE
TZID:Etc/GMT-1
BEGIN:STANDARD
DTSTART:20010101T000000
TZOFFSETFROM:+0100
TZOFFSETTO:+0100
TZNAME:GMT +01:00
END:STANDARD
END:VTIMEZONE
BEGIN:VEVENT
UID:20260424T064352CEST-1432H2SL1R@horsealert.local
DTSTAMP:20260424T040452Z
CATEGORIES:Horse Alerts
DESCRIPTION:Weddings Here At Carlisle Racecourse Beginners\' Chase
DTSTART:20141023T170000
LOCATION:England
SUMMARY:Horse Racing:Weddings Here At Carlisle Racecourse Beginners\' Chase
END:VEVENT
END:VCALENDAR
