BEGIN:VCALENDAR
VERSION:2.0
PRODID:-//horsealert.local//NONSGML kigkonsult.se iCalcreator 2.10.5//
CALSCALE:GREGORIAN
X-WR-TIMEZONE:Europe/Dublin
BEGIN:VTIMEZONE
TZID:Etc/GMT-1
BEGIN:STANDARD
DTSTART:20010101T000000
TZOFFSETFROM:+0100
TZOFFSETTO:+0100
TZNAME:GMT +01:00
END:STANDARD
END:VTIMEZONE
BEGIN:VEVENT
UID:20260424T051714CEST-4781dHpL8T@horsealert.local
DTSTAMP:20260424T030414Z
CATEGORIES:Horse Alerts
DESCRIPTION:Arun Business Partnership Supporting Local Companies Handicap C
 hase
DTSTART:20141022T150000
LOCATION:England
SUMMARY:Horse Racing:Arun Business Partnership Supporting Local Companies H
 andicap Chase
END:VEVENT
END:VCALENDAR
