BEGIN:VCALENDAR
VERSION:2.0
PRODID:-//horsealert.local//NONSGML kigkonsult.se iCalcreator 2.10.5//
CALSCALE:GREGORIAN
X-WR-TIMEZONE:Europe/Dublin
BEGIN:VTIMEZONE
TZID:Etc/GMT-1
BEGIN:STANDARD
DTSTART:20010101T000000
TZOFFSETFROM:+0100
TZOFFSETTO:+0100
TZNAME:GMT +01:00
END:STANDARD
END:VTIMEZONE
BEGIN:VEVENT
UID:20260424T064316CEST-1356X8MCig@horsealert.local
DTSTAMP:20260424T040416Z
CATEGORIES:Horse Alerts
DESCRIPTION:Razor Ruddock Racing Club Classified Stakes
DTSTART:20141022T212500
LOCATION:England
SUMMARY:Horse Racing:Razor Ruddock Racing Club Classified Stakes
END:VEVENT
END:VCALENDAR
