BEGIN:VCALENDAR
VERSION:2.0
PRODID:-//horsealert.local//NONSGML kigkonsult.se iCalcreator 2.10.5//
CALSCALE:GREGORIAN
X-WR-TIMEZONE:Europe/Dublin
BEGIN:VTIMEZONE
TZID:Etc/GMT-1
BEGIN:STANDARD
DTSTART:20010101T000000
TZOFFSETFROM:+0100
TZOFFSETTO:+0100
TZNAME:GMT +01:00
END:STANDARD
END:VTIMEZONE
BEGIN:VEVENT
UID:20260424T064354CEST-4105H0CjzG@horsealert.local
DTSTAMP:20260424T040454Z
CATEGORIES:Horse Alerts
DESCRIPTION:recommendbookies.co.uk UK\'s Top Betting Site Handicap \(Div 1\
 )
DTSTART:20141021T163000
LOCATION:England
SUMMARY:Horse Racing:recommendbookies.co.uk UK\'s Top Betting Site Handicap
  \(Div 1\)
END:VEVENT
END:VCALENDAR
