BEGIN:VCALENDAR
VERSION:2.0
PRODID:-//horsealert.local//NONSGML kigkonsult.se iCalcreator 2.10.5//
CALSCALE:GREGORIAN
X-WR-TIMEZONE:Europe/Dublin
BEGIN:VTIMEZONE
TZID:Etc/GMT-1
BEGIN:STANDARD
DTSTART:20010101T000000
TZOFFSETFROM:+0100
TZOFFSETTO:+0100
TZNAME:GMT +01:00
END:STANDARD
END:VTIMEZONE
BEGIN:VEVENT
UID:20260424T064315CEST-5888KL46ud@horsealert.local
DTSTAMP:20260424T040415Z
CATEGORIES:Horse Alerts
DESCRIPTION:Clodovil E.B.F. Garnet Stakes \(Fillies Listed\)
DTSTART:20141019T151500
LOCATION:Eire
SUMMARY:Horse Racing:Clodovil E.B.F. Garnet Stakes \(Fillies Listed\)
END:VEVENT
END:VCALENDAR
