BEGIN:VCALENDAR
VERSION:2.0
PRODID:-//horsealert.local//NONSGML kigkonsult.se iCalcreator 2.10.5//
CALSCALE:GREGORIAN
X-WR-TIMEZONE:Europe/Dublin
BEGIN:VTIMEZONE
TZID:Etc/GMT-1
BEGIN:STANDARD
DTSTART:20010101T000000
TZOFFSETFROM:+0100
TZOFFSETTO:+0100
TZNAME:GMT +01:00
END:STANDARD
END:VTIMEZONE
BEGIN:VEVENT
UID:20260424T051700CEST-38718I6k12@horsealert.local
DTSTAMP:20260424T030400Z
CATEGORIES:Horse Alerts
DESCRIPTION:Racing UK Anywhere Available Now Ladies\' Handicap \(For Lady A
 mateur Riders\)
DTSTART:20141017T174500
LOCATION:England
SUMMARY:Horse Racing:Racing UK Anywhere Available Now Ladies\' Handicap \(F
 or Lady Amateur Riders\)
END:VEVENT
END:VCALENDAR
