BEGIN:VCALENDAR
VERSION:2.0
PRODID:-//horsealert.local//NONSGML kigkonsult.se iCalcreator 2.10.5//
CALSCALE:GREGORIAN
X-WR-TIMEZONE:Europe/Dublin
BEGIN:VTIMEZONE
TZID:Etc/GMT-1
BEGIN:STANDARD
DTSTART:20010101T000000
TZOFFSETFROM:+0100
TZOFFSETTO:+0100
TZNAME:GMT +01:00
END:STANDARD
END:VTIMEZONE
BEGIN:VEVENT
UID:20260424T064252CEST-6815p9UzXs@horsealert.local
DTSTAMP:20260424T040452Z
CATEGORIES:Horse Alerts
DESCRIPTION:vision.ae Middle Park Stakes \(Group 1\)
DTSTART:20141017T145500
LOCATION:England
SUMMARY:Horse Racing:vision.ae Middle Park Stakes \(Group 1\)
END:VEVENT
END:VCALENDAR
