BEGIN:VCALENDAR
VERSION:2.0
PRODID:-//horsealert.local//NONSGML kigkonsult.se iCalcreator 2.10.5//
CALSCALE:GREGORIAN
X-WR-TIMEZONE:Europe/Dublin
BEGIN:VTIMEZONE
TZID:Etc/GMT-1
BEGIN:STANDARD
DTSTART:20010101T000000
TZOFFSETFROM:+0100
TZOFFSETTO:+0100
TZNAME:GMT +01:00
END:STANDARD
END:VTIMEZONE
BEGIN:VEVENT
UID:20260424T051821CEST-4162sS4V2i@horsealert.local
DTSTAMP:20260424T030421Z
CATEGORIES:Horse Alerts
DESCRIPTION:ChoiceBET Number One Telephone Betting 08000126499 Handicap \(D
 iv 2\)
DTSTART:20141016T174000
LOCATION:England
SUMMARY:Horse Racing:ChoiceBET Number One Telephone Betting 08000126499 Han
 dicap \(Div 2\)
END:VEVENT
END:VCALENDAR
