BEGIN:VCALENDAR
VERSION:2.0
PRODID:-//horsealert.local//NONSGML kigkonsult.se iCalcreator 2.10.5//
CALSCALE:GREGORIAN
X-WR-TIMEZONE:Europe/Dublin
BEGIN:VTIMEZONE
TZID:Etc/GMT-1
BEGIN:STANDARD
DTSTART:20010101T000000
TZOFFSETFROM:+0100
TZOFFSETTO:+0100
TZNAME:GMT +01:00
END:STANDARD
END:VTIMEZONE
BEGIN:VEVENT
UID:20260424T070438CEST-3196C8lsop@horsealert.local
DTSTAMP:20260424T050438Z
CATEGORIES:Horse Alerts
DESCRIPTION:Don\'t Miss The bet365 Charlie Hall Meeting Handicap Hurdle
DTSTART:20141015T173500
LOCATION:England
SUMMARY:Horse Racing:Don\'t Miss The bet365 Charlie Hall Meeting Handicap H
 urdle
END:VEVENT
END:VCALENDAR
