BEGIN:VCALENDAR
VERSION:2.0
PRODID:-//horsealert.local//NONSGML kigkonsult.se iCalcreator 2.10.5//
CALSCALE:GREGORIAN
X-WR-TIMEZONE:Europe/Dublin
BEGIN:VTIMEZONE
TZID:Etc/GMT-1
BEGIN:STANDARD
DTSTART:20010101T000000
TZOFFSETFROM:+0100
TZOFFSETTO:+0100
TZNAME:GMT +01:00
END:STANDARD
END:VTIMEZONE
BEGIN:VEVENT
UID:20260424T053342CEST-9492EW4z8u@horsealert.local
DTSTAMP:20260424T030442Z
CATEGORIES:Horse Alerts
DESCRIPTION:Spinal Research Rachel Wright Memorial Hurdle \(Juvenile Maiden
  Hurdle\)
DTSTART:20141015T142000
LOCATION:England
SUMMARY:Horse Racing:Spinal Research Rachel Wright Memorial Hurdle \(Juveni
 le Maiden Hurdle\)
END:VEVENT
END:VCALENDAR
