BEGIN:VCALENDAR
VERSION:2.0
PRODID:-//horsealert.local//NONSGML kigkonsult.se iCalcreator 2.10.5//
CALSCALE:GREGORIAN
X-WR-TIMEZONE:Europe/Dublin
BEGIN:VTIMEZONE
TZID:Etc/GMT-1
BEGIN:STANDARD
DTSTART:20010101T000000
TZOFFSETFROM:+0100
TZOFFSETTO:+0100
TZNAME:GMT +01:00
END:STANDARD
END:VTIMEZONE
BEGIN:VEVENT
UID:20260424T051700CEST-7083bAUs8G@horsealert.local
DTSTAMP:20260424T030400Z
CATEGORIES:Horse Alerts
DESCRIPTION:ERS Medical Handicap Chase
DTSTART:20141014T165000
LOCATION:England
SUMMARY:Horse Racing:ERS Medical Handicap Chase
END:VEVENT
END:VCALENDAR
