BEGIN:VCALENDAR
VERSION:2.0
PRODID:-//horsealert.local//NONSGML kigkonsult.se iCalcreator 2.10.5//
CALSCALE:GREGORIAN
X-WR-TIMEZONE:Europe/Dublin
BEGIN:VTIMEZONE
TZID:Etc/GMT-1
BEGIN:STANDARD
DTSTART:20010101T000000
TZOFFSETFROM:+0100
TZOFFSETTO:+0100
TZNAME:GMT +01:00
END:STANDARD
END:VTIMEZONE
BEGIN:VEVENT
UID:20260424T064231CEST-6753oDx6w5@horsealert.local
DTSTAMP:20260424T040431Z
CATEGORIES:Horse Alerts
DESCRIPTION:Enjoy Daily Betting Tips At bookmakers.co.uk Maiden Auction Sta
 kes
DTSTART:20141014T173000
LOCATION:England
SUMMARY:Horse Racing:Enjoy Daily Betting Tips At bookmakers.co.uk Maiden Au
 ction Stakes
END:VEVENT
END:VCALENDAR
