BEGIN:VCALENDAR
VERSION:2.0
PRODID:-//horsealert.local//NONSGML kigkonsult.se iCalcreator 2.10.5//
CALSCALE:GREGORIAN
X-WR-TIMEZONE:Europe/Dublin
BEGIN:VTIMEZONE
TZID:Etc/GMT-1
BEGIN:STANDARD
DTSTART:20010101T000000
TZOFFSETFROM:+0100
TZOFFSETTO:+0100
TZNAME:GMT +01:00
END:STANDARD
END:VTIMEZONE
BEGIN:VEVENT
UID:20260424T051719CEST-6702DPi6uh@horsealert.local
DTSTAMP:20260424T030419Z
CATEGORIES:Horse Alerts
DESCRIPTION:Royal Marines 350th Anniversary/EBF Irish Stallion Farms Maiden
  Stakes \(Str\)
DTSTART:20141014T140000
LOCATION:England
SUMMARY:Horse Racing:Royal Marines 350th Anniversary/EBF Irish Stallion Far
 ms Maiden Stakes \(Str\)
END:VEVENT
END:VCALENDAR
