BEGIN:VCALENDAR
VERSION:2.0
PRODID:-//horsealert.local//NONSGML kigkonsult.se iCalcreator 2.10.5//
CALSCALE:GREGORIAN
X-WR-TIMEZONE:Europe/Dublin
BEGIN:VTIMEZONE
TZID:Etc/GMT-1
BEGIN:STANDARD
DTSTART:20010101T000000
TZOFFSETFROM:+0100
TZOFFSETTO:+0100
TZNAME:GMT +01:00
END:STANDARD
END:VTIMEZONE
BEGIN:VEVENT
UID:20260424T051650CEST-1314ojCV8V@horsealert.local
DTSTAMP:20260424T030450Z
CATEGORIES:Horse Alerts
DESCRIPTION:Betfred Racing \'Follow Us On Twitter\' Juvenile Hurdle \(Betfr
 ed Hurdle Series Qualifier\)
DTSTART:20141013T141000
LOCATION:England
SUMMARY:Horse Racing:Betfred Racing \'Follow Us On Twitter\' Juvenile Hurdl
 e \(Betfred Hurdle Series Qualifier\)
END:VEVENT
END:VCALENDAR
