BEGIN:VCALENDAR
VERSION:2.0
PRODID:-//horsealert.local//NONSGML kigkonsult.se iCalcreator 2.10.5//
CALSCALE:GREGORIAN
X-WR-TIMEZONE:Europe/Dublin
BEGIN:VTIMEZONE
TZID:Etc/GMT-1
BEGIN:STANDARD
DTSTART:20010101T000000
TZOFFSETFROM:+0100
TZOFFSETTO:+0100
TZNAME:GMT +01:00
END:STANDARD
END:VTIMEZONE
BEGIN:VEVENT
UID:20260424T064301CEST-9845Dt9V7h@horsealert.local
DTSTAMP:20260424T040401Z
CATEGORIES:Horse Alerts
DESCRIPTION:intu Metrocentre Always A Safe Bet Intermediate NH Flat Race \(
 Conditional Jockeys And Amateur Riders\)
DTSTART:20141011T174500
LOCATION:England
SUMMARY:Horse Racing:intu Metrocentre Always A Safe Bet Intermediate NH Fla
 t Race \(Conditional Jockeys And Amateur Riders\)
END:VEVENT
END:VCALENDAR
