BEGIN:VCALENDAR
VERSION:2.0
PRODID:-//horsealert.local//NONSGML kigkonsult.se iCalcreator 2.10.5//
CALSCALE:GREGORIAN
X-WR-TIMEZONE:Europe/Dublin
BEGIN:VTIMEZONE
TZID:Etc/GMT-1
BEGIN:STANDARD
DTSTART:20010101T000000
TZOFFSETFROM:+0100
TZOFFSETTO:+0100
TZNAME:GMT +01:00
END:STANDARD
END:VTIMEZONE
BEGIN:VEVENT
UID:20260424T051829CEST-8941BHpE5G@horsealert.local
DTSTAMP:20260424T030429Z
CATEGORIES:Horse Alerts
DESCRIPTION:fairyhouse.ie Book Online Handicap Hurdle \(80-95\)
DTSTART:20141011T163000
LOCATION:Eire
SUMMARY:Horse Racing:fairyhouse.ie Book Online Handicap Hurdle \(80-95\)
END:VEVENT
END:VCALENDAR
