BEGIN:VCALENDAR
VERSION:2.0
PRODID:-//horsealert.local//NONSGML kigkonsult.se iCalcreator 2.10.5//
CALSCALE:GREGORIAN
X-WR-TIMEZONE:Europe/Dublin
BEGIN:VTIMEZONE
TZID:Etc/GMT-1
BEGIN:STANDARD
DTSTART:20010101T000000
TZOFFSETFROM:+0100
TZOFFSETTO:+0100
TZNAME:GMT +01:00
END:STANDARD
END:VTIMEZONE
BEGIN:VEVENT
UID:20260424T051708CEST-829442c8jA@horsealert.local
DTSTAMP:20260424T030408Z
CATEGORIES:Horse Alerts
DESCRIPTION:Book Your Christmas Party At Fairyhouse December 20th Mares Beg
 inners Chase
DTSTART:20141011T160000
LOCATION:Eire
SUMMARY:Horse Racing:Book Your Christmas Party At Fairyhouse December 20th 
 Mares Beginners Chase
END:VEVENT
END:VCALENDAR
