BEGIN:VCALENDAR
VERSION:2.0
PRODID:-//horsealert.local//NONSGML kigkonsult.se iCalcreator 2.10.5//
CALSCALE:GREGORIAN
X-WR-TIMEZONE:Europe/Dublin
BEGIN:VTIMEZONE
TZID:Etc/GMT-1
BEGIN:STANDARD
DTSTART:20010101T000000
TZOFFSETFROM:+0100
TZOFFSETTO:+0100
TZNAME:GMT +01:00
END:STANDARD
END:VTIMEZONE
BEGIN:VEVENT
UID:20260424T064255CEST-67645uWCiU@horsealert.local
DTSTAMP:20260424T040455Z
CATEGORIES:Horse Alerts
DESCRIPTION:Get The Best Free Bets At thebookiesoffers.co.uk Novices\' Chas
 e \(For The Robert Mottram Memorial Trophy\)
DTSTART:20141011T154000
LOCATION:Wales
SUMMARY:Horse Racing:Get The Best Free Bets At thebookiesoffers.co.uk Novic
 es\' Chase \(For The Robert Mottram Memorial Trophy\)
END:VEVENT
END:VCALENDAR
