BEGIN:VCALENDAR
VERSION:2.0
PRODID:-//horsealert.local//NONSGML kigkonsult.se iCalcreator 2.10.5//
CALSCALE:GREGORIAN
X-WR-TIMEZONE:Europe/Dublin
BEGIN:VTIMEZONE
TZID:Etc/GMT-1
BEGIN:STANDARD
DTSTART:20010101T000000
TZOFFSETFROM:+0100
TZOFFSETTO:+0100
TZNAME:GMT +01:00
END:STANDARD
END:VTIMEZONE
BEGIN:VEVENT
UID:20260424T070442CEST-2317KlVwms@horsealert.local
DTSTAMP:20260424T050442Z
CATEGORIES:Horse Alerts
DESCRIPTION:This Isn\'t The \'Stan James Champion Hurdle\' Handicap
DTSTART:20141010T150000
LOCATION:England
SUMMARY:Horse Racing:This Isn\'t The \'Stan James Champion Hurdle\' Handica
 p
END:VEVENT
END:VCALENDAR
