BEGIN:VCALENDAR
VERSION:2.0
PRODID:-//horsealert.local//NONSGML kigkonsult.se iCalcreator 2.10.5//
CALSCALE:GREGORIAN
X-WR-TIMEZONE:Europe/Dublin
BEGIN:VTIMEZONE
TZID:Etc/GMT-1
BEGIN:STANDARD
DTSTART:20010101T000000
TZOFFSETFROM:+0100
TZOFFSETTO:+0100
TZNAME:GMT +01:00
END:STANDARD
END:VTIMEZONE
BEGIN:VEVENT
UID:20260424T064229CEST-3852UkDNKx@horsealert.local
DTSTAMP:20260424T040429Z
CATEGORIES:Horse Alerts
DESCRIPTION:Graun Hill Suite - Great For Christmas Parties Beginners Chase
DTSTART:20141009T164500
LOCATION:Eire
SUMMARY:Horse Racing:Graun Hill Suite - Great For Christmas Parties Beginne
 rs Chase
END:VEVENT
END:VCALENDAR
