BEGIN:VCALENDAR
VERSION:2.0
PRODID:-//horsealert.local//NONSGML kigkonsult.se iCalcreator 2.10.5//
CALSCALE:GREGORIAN
X-WR-TIMEZONE:Europe/Dublin
BEGIN:VTIMEZONE
TZID:Etc/GMT-1
BEGIN:STANDARD
DTSTART:20010101T000000
TZOFFSETFROM:+0100
TZOFFSETTO:+0100
TZNAME:GMT +01:00
END:STANDARD
END:VTIMEZONE
BEGIN:VEVENT
UID:20260424T051755CEST-1314FRw275@horsealert.local
DTSTAMP:20260424T030455Z
CATEGORIES:Horse Alerts
DESCRIPTION:markwallisgreyhounds.co.uk Mares\' \'National Hunt\' Novices\' 
 Hurdle
DTSTART:20141008T154000
LOCATION:England
SUMMARY:Horse Racing:markwallisgreyhounds.co.uk Mares\' \'National Hunt\' N
 ovices\' Hurdle
END:VEVENT
END:VCALENDAR
