BEGIN:VCALENDAR
VERSION:2.0
PRODID:-//horsealert.local//NONSGML kigkonsult.se iCalcreator 2.10.5//
CALSCALE:GREGORIAN
X-WR-TIMEZONE:Europe/Dublin
BEGIN:VTIMEZONE
TZID:Etc/GMT-1
BEGIN:STANDARD
DTSTART:20010101T000000
TZOFFSETFROM:+0100
TZOFFSETTO:+0100
TZNAME:GMT +01:00
END:STANDARD
END:VTIMEZONE
BEGIN:VEVENT
UID:20260424T051750CEST-5183LBZGIW@horsealert.local
DTSTAMP:20260424T030450Z
CATEGORIES:Horse Alerts
DESCRIPTION:10 Free Mobile Bet At Titanbet.co.uk Handicap
DTSTART:20141007T203500
LOCATION:England
SUMMARY:Horse Racing:10 Free Mobile Bet At Titanbet.co.uk Handicap
END:VEVENT
END:VCALENDAR
