BEGIN:VCALENDAR
VERSION:2.0
PRODID:-//horsealert.local//NONSGML kigkonsult.se iCalcreator 2.10.5//
CALSCALE:GREGORIAN
X-WR-TIMEZONE:Europe/Dublin
BEGIN:VTIMEZONE
TZID:Etc/GMT-1
BEGIN:STANDARD
DTSTART:20010101T000000
TZOFFSETFROM:+0100
TZOFFSETTO:+0100
TZNAME:GMT +01:00
END:STANDARD
END:VTIMEZONE
BEGIN:VEVENT
UID:20260424T095153CEST-61060hDjcD@horsealert.local
DTSTAMP:20260424T070453Z
CATEGORIES:Horse Alerts
DESCRIPTION:Racing Again Saturday 18th October Amateur Riders\' Handicap \(
 Div 2\)
DTSTART:20141007T173000
LOCATION:England
SUMMARY:Horse Racing:Racing Again Saturday 18th October Amateur Riders\' Ha
 ndicap \(Div 2\)
END:VEVENT
END:VCALENDAR
