BEGIN:VCALENDAR
VERSION:2.0
PRODID:-//horsealert.local//NONSGML kigkonsult.se iCalcreator 2.10.5//
CALSCALE:GREGORIAN
X-WR-TIMEZONE:Europe/Dublin
BEGIN:VTIMEZONE
TZID:Etc/GMT-1
BEGIN:STANDARD
DTSTART:20010101T000000
TZOFFSETFROM:+0100
TZOFFSETTO:+0100
TZNAME:GMT +01:00
END:STANDARD
END:VTIMEZONE
BEGIN:VEVENT
UID:20260424T051710CEST-0192i3NurP@horsealert.local
DTSTAMP:20260424T030410Z
CATEGORIES:Horse Alerts
DESCRIPTION:Kalahari King Beginners\' Chase
DTSTART:20141005T160000
LOCATION:England
SUMMARY:Horse Racing:Kalahari King Beginners\' Chase
END:VEVENT
END:VCALENDAR
