BEGIN:VCALENDAR
VERSION:2.0
PRODID:-//horsealert.local//NONSGML kigkonsult.se iCalcreator 2.10.5//
CALSCALE:GREGORIAN
X-WR-TIMEZONE:Europe/Dublin
BEGIN:VTIMEZONE
TZID:Etc/GMT-1
BEGIN:STANDARD
DTSTART:20010101T000000
TZOFFSETFROM:+0100
TZOFFSETTO:+0100
TZNAME:GMT +01:00
END:STANDARD
END:VTIMEZONE
BEGIN:VEVENT
UID:20260424T095153CEST-3458hF6r21@horsealert.local
DTSTAMP:20260424T070453Z
CATEGORIES:Horse Alerts
DESCRIPTION:A&S Enterprises Handicap Hurdle \(For The Staffordshire Yeomanr
 y Cup\)
DTSTART:20141005T152000
LOCATION:England
SUMMARY:Horse Racing:A&S Enterprises Handicap Hurdle \(For The Staffordshir
 e Yeomanry Cup\)
END:VEVENT
END:VCALENDAR
