BEGIN:VCALENDAR
VERSION:2.0
PRODID:-//horsealert.local//NONSGML kigkonsult.se iCalcreator 2.10.5//
CALSCALE:GREGORIAN
X-WR-TIMEZONE:Europe/Dublin
BEGIN:VTIMEZONE
TZID:Etc/GMT-1
BEGIN:STANDARD
DTSTART:20010101T000000
TZOFFSETFROM:+0100
TZOFFSETTO:+0100
TZNAME:GMT +01:00
END:STANDARD
END:VTIMEZONE
BEGIN:VEVENT
UID:20260424T064258CEST-6071WeRMfz@horsealert.local
DTSTAMP:20260424T040458Z
CATEGORIES:Horse Alerts
DESCRIPTION:Burton Rock\'n\'Roll Club Burton Latimer Northants Handicap Hur
 dle
DTSTART:20141005T161000
LOCATION:England
SUMMARY:Horse Racing:Burton Rock\'n\'Roll Club Burton Latimer Northants Han
 dicap Hurdle
END:VEVENT
END:VCALENDAR
