BEGIN:VCALENDAR
VERSION:2.0
PRODID:-//horsealert.local//NONSGML kigkonsult.se iCalcreator 2.10.5//
CALSCALE:GREGORIAN
X-WR-TIMEZONE:Europe/Dublin
BEGIN:VTIMEZONE
TZID:Etc/GMT-1
BEGIN:STANDARD
DTSTART:20010101T000000
TZOFFSETFROM:+0100
TZOFFSETTO:+0100
TZNAME:GMT +01:00
END:STANDARD
END:VTIMEZONE
BEGIN:VEVENT
UID:20260424T051646CEST-1248flTEtI@horsealert.local
DTSTAMP:20260424T030446Z
CATEGORIES:Horse Alerts
DESCRIPTION:Rooftop Racing Packages At Gowran Park Maiden Hurdle
DTSTART:20141004T150000
LOCATION:Eire
SUMMARY:Horse Racing:Rooftop Racing Packages At Gowran Park Maiden Hurdle
END:VEVENT
END:VCALENDAR
