BEGIN:VCALENDAR
VERSION:2.0
PRODID:-//horsealert.local//NONSGML kigkonsult.se iCalcreator 2.10.5//
CALSCALE:GREGORIAN
X-WR-TIMEZONE:Europe/Dublin
BEGIN:VTIMEZONE
TZID:Etc/GMT-1
BEGIN:STANDARD
DTSTART:20010101T000000
TZOFFSETFROM:+0100
TZOFFSETTO:+0100
TZNAME:GMT +01:00
END:STANDARD
END:VTIMEZONE
BEGIN:VEVENT
UID:20260424T051751CEST-8609Ut5UoA@horsealert.local
DTSTAMP:20260424T030451Z
CATEGORIES:Horse Alerts
DESCRIPTION:totepool Two-Year-Old Trophy \(Listed\)
DTSTART:20141004T150500
LOCATION:England
SUMMARY:Horse Racing:totepool Two-Year-Old Trophy \(Listed\)
END:VEVENT
END:VCALENDAR
