BEGIN:VCALENDAR
VERSION:2.0
PRODID:-//horsealert.local//NONSGML kigkonsult.se iCalcreator 2.10.5//
CALSCALE:GREGORIAN
X-WR-TIMEZONE:Europe/Dublin
BEGIN:VTIMEZONE
TZID:Etc/GMT-1
BEGIN:STANDARD
DTSTART:20010101T000000
TZOFFSETFROM:+0100
TZOFFSETTO:+0100
TZNAME:GMT +01:00
END:STANDARD
END:VTIMEZONE
BEGIN:VEVENT
UID:20260424T051834CEST-9944u6Uwkr@horsealert.local
DTSTAMP:20260424T030434Z
CATEGORIES:Horse Alerts
DESCRIPTION:Albert Bartlett Stakes \(Registered As The Rous Stakes\) \(List
 ed\)
DTSTART:20141004T140500
LOCATION:England
SUMMARY:Horse Racing:Albert Bartlett Stakes \(Registered As The Rous Stakes
 \) \(Listed\)
END:VEVENT
END:VCALENDAR
