BEGIN:VCALENDAR
VERSION:2.0
PRODID:-//horsealert.local//NONSGML kigkonsult.se iCalcreator 2.10.5//
CALSCALE:GREGORIAN
X-WR-TIMEZONE:Europe/Dublin
BEGIN:VTIMEZONE
TZID:Etc/GMT-1
BEGIN:STANDARD
DTSTART:20010101T000000
TZOFFSETFROM:+0100
TZOFFSETTO:+0100
TZNAME:GMT +01:00
END:STANDARD
END:VTIMEZONE
BEGIN:VEVENT
UID:20260424T051749CEST-0355Ct49PO@horsealert.local
DTSTAMP:20260424T030449Z
CATEGORIES:Horse Alerts
DESCRIPTION:Thy Will Be Done Wills & Trusts Handicap Hurdle
DTSTART:20141003T151500
LOCATION:England
SUMMARY:Horse Racing:Thy Will Be Done Wills & Trusts Handicap Hurdle
END:VEVENT
END:VCALENDAR
