BEGIN:VCALENDAR
VERSION:2.0
PRODID:-//horsealert.local//NONSGML kigkonsult.se iCalcreator 2.10.5//
CALSCALE:GREGORIAN
X-WR-TIMEZONE:Europe/Dublin
BEGIN:VTIMEZONE
TZID:Etc/GMT-1
BEGIN:STANDARD
DTSTART:20010101T000000
TZOFFSETFROM:+0100
TZOFFSETTO:+0100
TZNAME:GMT +01:00
END:STANDARD
END:VTIMEZONE
BEGIN:VEVENT
UID:20260424T064300CEST-2500hw8ovK@horsealert.local
DTSTAMP:20260424T040400Z
CATEGORIES:Horse Alerts
DESCRIPTION:Follow Gowran Park On Facebook Handicap Hurdle \(81-130\)
DTSTART:20141003T164500
LOCATION:Eire
SUMMARY:Horse Racing:Follow Gowran Park On Facebook Handicap Hurdle \(81-13
 0\)
END:VEVENT
END:VCALENDAR
