BEGIN:VCALENDAR
VERSION:2.0
PRODID:-//horsealert.local//NONSGML kigkonsult.se iCalcreator 2.10.5//
CALSCALE:GREGORIAN
X-WR-TIMEZONE:Europe/Dublin
BEGIN:VTIMEZONE
TZID:Etc/GMT-1
BEGIN:STANDARD
DTSTART:20010101T000000
TZOFFSETFROM:+0100
TZOFFSETTO:+0100
TZNAME:GMT +01:00
END:STANDARD
END:VTIMEZONE
BEGIN:VEVENT
UID:20260424T110618CEST-1036rGSVrB@horsealert.local
DTSTAMP:20260424T090418Z
CATEGORIES:Horse Alerts
DESCRIPTION:Get Logo\'d Standard NH Flat Race \(Conditional Jockeys And Ama
 teur Riders\)
DTSTART:20141002T170000
LOCATION:Wales
SUMMARY:Horse Racing:Get Logo\'d Standard NH Flat Race \(Conditional Jockey
 s And Amateur Riders\)
END:VEVENT
END:VCALENDAR
