BEGIN:VCALENDAR
VERSION:2.0
PRODID:-//horsealert.local//NONSGML kigkonsult.se iCalcreator 2.10.5//
CALSCALE:GREGORIAN
X-WR-TIMEZONE:Europe/Dublin
BEGIN:VTIMEZONE
TZID:Etc/GMT-1
BEGIN:STANDARD
DTSTART:20010101T000000
TZOFFSETFROM:+0100
TZOFFSETTO:+0100
TZNAME:GMT +01:00
END:STANDARD
END:VTIMEZONE
BEGIN:VEVENT
UID:20260424T064356CEST-50673TV5vd@horsealert.local
DTSTAMP:20260424T040456Z
CATEGORIES:Horse Alerts
DESCRIPTION:Booker Wholesale British Stallion Studs EBF Novice Stakes
DTSTART:20141001T145000
LOCATION:England
SUMMARY:Horse Racing:Booker Wholesale British Stallion Studs EBF Novice Sta
 kes
END:VEVENT
END:VCALENDAR
