BEGIN:VCALENDAR
VERSION:2.0
PRODID:-//horsealert.local//NONSGML kigkonsult.se iCalcreator 2.10.5//
CALSCALE:GREGORIAN
X-WR-TIMEZONE:Europe/Dublin
BEGIN:VTIMEZONE
TZID:Etc/GMT-1
BEGIN:STANDARD
DTSTART:20010101T000000
TZOFFSETFROM:+0100
TZOFFSETTO:+0100
TZNAME:GMT +01:00
END:STANDARD
END:VTIMEZONE
BEGIN:VEVENT
UID:20260424T080540CEST-2470h23AKb@horsealert.local
DTSTAMP:20260424T060440Z
CATEGORIES:Horse Alerts
DESCRIPTION:Compare Bookies Odds At Bookies.com Novices\' Hurdle \(Betfred 
 Hurdle Series Qualifier\)
DTSTART:20140930T145000
LOCATION:England
SUMMARY:Horse Racing:Compare Bookies Odds At Bookies.com Novices\' Hurdle \
 (Betfred Hurdle Series Qualifier\)
END:VEVENT
END:VCALENDAR
