BEGIN:VCALENDAR
VERSION:2.0
PRODID:-//horsealert.local//NONSGML kigkonsult.se iCalcreator 2.10.5//
CALSCALE:GREGORIAN
X-WR-TIMEZONE:Europe/Dublin
BEGIN:VTIMEZONE
TZID:Etc/GMT-1
BEGIN:STANDARD
DTSTART:20010101T000000
TZOFFSETFROM:+0100
TZOFFSETTO:+0100
TZNAME:GMT +01:00
END:STANDARD
END:VTIMEZONE
BEGIN:VEVENT
UID:20260424T094321CEST-0353huhUM2@horsealert.local
DTSTAMP:20260424T070421Z
CATEGORIES:Horse Alerts
DESCRIPTION:Chepstow Racecourse Saved My Life Novices\' Limited Handicap Ch
 ase
DTSTART:20140930T154000
LOCATION:Wales
SUMMARY:Horse Racing:Chepstow Racecourse Saved My Life Novices\' Limited Ha
 ndicap Chase
END:VEVENT
END:VCALENDAR
