BEGIN:VCALENDAR
VERSION:2.0
PRODID:-//horsealert.local//NONSGML kigkonsult.se iCalcreator 2.10.5//
CALSCALE:GREGORIAN
X-WR-TIMEZONE:Europe/Dublin
BEGIN:VTIMEZONE
TZID:Etc/GMT-1
BEGIN:STANDARD
DTSTART:20010101T000000
TZOFFSETFROM:+0100
TZOFFSETTO:+0100
TZNAME:GMT +01:00
END:STANDARD
END:VTIMEZONE
BEGIN:VEVENT
UID:20260424T080522CEST-0599A8HvE7@horsealert.local
DTSTAMP:20260424T060422Z
CATEGORIES:Horse Alerts
DESCRIPTION:Premier Jumps Winter Festival November 29th-30th Claiming Race
DTSTART:20140930T163000
LOCATION:Eire
SUMMARY:Horse Racing:Premier Jumps Winter Festival November 29th-30th Claim
 ing Race
END:VEVENT
END:VCALENDAR
