BEGIN:VCALENDAR
VERSION:2.0
PRODID:-//horsealert.local//NONSGML kigkonsult.se iCalcreator 2.10.5//
CALSCALE:GREGORIAN
X-WR-TIMEZONE:Europe/Dublin
BEGIN:VTIMEZONE
TZID:Etc/GMT-1
BEGIN:STANDARD
DTSTART:20010101T000000
TZOFFSETFROM:+0100
TZOFFSETTO:+0100
TZNAME:GMT +01:00
END:STANDARD
END:VTIMEZONE
BEGIN:VEVENT
UID:20260424T064316CEST-6771sSdlxh@horsealert.local
DTSTAMP:20260424T040416Z
CATEGORIES:Horse Alerts
DESCRIPTION:Munsboro Maiden Hurdle
DTSTART:20140929T170500
LOCATION:Eire
SUMMARY:Horse Racing:Munsboro Maiden Hurdle
END:VEVENT
END:VCALENDAR
