BEGIN:VCALENDAR
VERSION:2.0
PRODID:-//horsealert.local//NONSGML kigkonsult.se iCalcreator 2.10.5//
CALSCALE:GREGORIAN
X-WR-TIMEZONE:Europe/Dublin
BEGIN:VTIMEZONE
TZID:Etc/GMT-1
BEGIN:STANDARD
DTSTART:20010101T000000
TZOFFSETFROM:+0100
TZOFFSETTO:+0100
TZNAME:GMT +01:00
END:STANDARD
END:VTIMEZONE
BEGIN:VEVENT
UID:20260424T064308CEST-9188UcwVmL@horsealert.local
DTSTAMP:20260424T040408Z
CATEGORIES:Horse Alerts
DESCRIPTION:Region Alsace Listed Stakes
DTSTART:20140928T160000
LOCATION:France
SUMMARY:Horse Racing:Region Alsace Listed Stakes
END:VEVENT
END:VCALENDAR
