BEGIN:VCALENDAR
VERSION:2.0
PRODID:-//horsealert.local//NONSGML kigkonsult.se iCalcreator 2.10.5//
CALSCALE:GREGORIAN
X-WR-TIMEZONE:Europe/Dublin
BEGIN:VTIMEZONE
TZID:Etc/GMT-1
BEGIN:STANDARD
DTSTART:20010101T000000
TZOFFSETFROM:+0100
TZOFFSETTO:+0100
TZNAME:GMT +01:00
END:STANDARD
END:VTIMEZONE
BEGIN:VEVENT
UID:20260424T064850CEST-1407Lo8jAh@horsealert.local
DTSTAMP:20260424T040450Z
CATEGORIES:Horse Alerts
DESCRIPTION:Junction 17 Prestige Cars Handicap
DTSTART:20140927T180500
LOCATION:England
SUMMARY:Horse Racing:Junction 17 Prestige Cars Handicap
END:VEVENT
END:VCALENDAR
