BEGIN:VCALENDAR
VERSION:2.0
PRODID:-//horsealert.local//NONSGML kigkonsult.se iCalcreator 2.10.5//
CALSCALE:GREGORIAN
X-WR-TIMEZONE:Europe/Dublin
BEGIN:VTIMEZONE
TZID:Etc/GMT-1
BEGIN:STANDARD
DTSTART:20010101T000000
TZOFFSETFROM:+0100
TZOFFSETTO:+0100
TZNAME:GMT +01:00
END:STANDARD
END:VTIMEZONE
BEGIN:VEVENT
UID:20260424T095106CEST-5312akP8E1@horsealert.local
DTSTAMP:20260424T070406Z
CATEGORIES:Horse Alerts
DESCRIPTION:David Sonia\'s 40th Birthday Celebration Apprentice Handicap
DTSTART:20140927T144500
LOCATION:England
SUMMARY:Horse Racing:David Sonia\'s 40th Birthday Celebration Apprentice Ha
 ndicap
END:VEVENT
END:VCALENDAR
