BEGIN:VCALENDAR
VERSION:2.0
PRODID:-//horsealert.local//NONSGML kigkonsult.se iCalcreator 2.10.5//
CALSCALE:GREGORIAN
X-WR-TIMEZONE:Europe/Dublin
BEGIN:VTIMEZONE
TZID:Etc/GMT-1
BEGIN:STANDARD
DTSTART:20010101T000000
TZOFFSETFROM:+0100
TZOFFSETTO:+0100
TZNAME:GMT +01:00
END:STANDARD
END:VTIMEZONE
BEGIN:VEVENT
UID:20260424T064610CEST-60752o5Rxv@horsealert.local
DTSTAMP:20260424T040410Z
CATEGORIES:Horse Alerts
DESCRIPTION:NEWMARKET - Arab Race - Qatar Racing And Equestrian Club UK Ara
 bian Derby \(Group 1 PA\)
DTSTART:20140925T172500
LOCATION:England
SUMMARY:Horse Racing:NEWMARKET - Arab Race - Qatar Racing And Equestrian Cl
 ub UK Arabian Derby \(Group 1 PA\)
END:VEVENT
END:VCALENDAR
