BEGIN:VCALENDAR
VERSION:2.0
PRODID:-//horsealert.local//NONSGML kigkonsult.se iCalcreator 2.10.5//
CALSCALE:GREGORIAN
X-WR-TIMEZONE:Europe/Dublin
BEGIN:VTIMEZONE
TZID:Etc/GMT-1
BEGIN:STANDARD
DTSTART:20010101T000000
TZOFFSETFROM:+0100
TZOFFSETTO:+0100
TZNAME:GMT +01:00
END:STANDARD
END:VTIMEZONE
BEGIN:VEVENT
UID:20260424T064713CEST-68561eDhEk@horsealert.local
DTSTAMP:20260424T040413Z
CATEGORIES:Horse Alerts
DESCRIPTION:Timothy Hardie Jewellers Novices\' Chase \(For The Centenary Si
 lver Plate\)
DTSTART:20140925T155500
LOCATION:Scotland
SUMMARY:Horse Racing:Timothy Hardie Jewellers Novices\' Chase \(For The Cen
 tenary Silver Plate\)
END:VEVENT
END:VCALENDAR
