BEGIN:VCALENDAR
VERSION:2.0
PRODID:-//horsealert.local//NONSGML kigkonsult.se iCalcreator 2.10.5//
CALSCALE:GREGORIAN
X-WR-TIMEZONE:Europe/Dublin
BEGIN:VTIMEZONE
TZID:Etc/GMT-1
BEGIN:STANDARD
DTSTART:20010101T000000
TZOFFSETFROM:+0100
TZOFFSETTO:+0100
TZNAME:GMT +01:00
END:STANDARD
END:VTIMEZONE
BEGIN:VEVENT
UID:20260424T081204CEST-0033NBjUUA@horsealert.local
DTSTAMP:20260424T060404Z
CATEGORIES:Horse Alerts
DESCRIPTION:Steeple-chase De Debut
DTSTART:20140924T120000
LOCATION:France
SUMMARY:Horse Racing:Steeple-chase De Debut
END:VEVENT
END:VCALENDAR
