BEGIN:VCALENDAR
VERSION:2.0
PRODID:-//horsealert.local//NONSGML kigkonsult.se iCalcreator 2.10.5//
CALSCALE:GREGORIAN
X-WR-TIMEZONE:Europe/Dublin
BEGIN:VTIMEZONE
TZID:Etc/GMT-1
BEGIN:STANDARD
DTSTART:20010101T000000
TZOFFSETFROM:+0100
TZOFFSETTO:+0100
TZNAME:GMT +01:00
END:STANDARD
END:VTIMEZONE
BEGIN:VEVENT
UID:20260424T064257CEST-7761remWaP@horsealert.local
DTSTAMP:20260424T040457Z
CATEGORIES:Horse Alerts
DESCRIPTION:Download The BetVictor App/British Stallions EBF Maiden Fillies
 \' Stakes \(Div 2\)
DTSTART:20140922T161000
LOCATION:England
SUMMARY:Horse Racing:Download The BetVictor App/British Stallions EBF Maide
 n Fillies\' Stakes \(Div 2\)
END:VEVENT
END:VCALENDAR
