BEGIN:VCALENDAR
VERSION:2.0
PRODID:-//horsealert.local//NONSGML kigkonsult.se iCalcreator 2.10.5//
CALSCALE:GREGORIAN
X-WR-TIMEZONE:Europe/Dublin
BEGIN:VTIMEZONE
TZID:Etc/GMT-1
BEGIN:STANDARD
DTSTART:20010101T000000
TZOFFSETFROM:+0100
TZOFFSETTO:+0100
TZNAME:GMT +01:00
END:STANDARD
END:VTIMEZONE
BEGIN:VEVENT
UID:20260424T064251CEST-8581uu9arr@horsealert.local
DTSTAMP:20260424T040451Z
CATEGORIES:Horse Alerts
DESCRIPTION:Gowran Golf Memberships For 2015 749 Apprentice Handicap \(50-7
 5\)
DTSTART:20140921T162500
LOCATION:Eire
SUMMARY:Horse Racing:Gowran Golf Memberships For 2015 749 Apprentice Handic
 ap \(50-75\)
END:VEVENT
END:VCALENDAR
