BEGIN:VCALENDAR
VERSION:2.0
PRODID:-//horsealert.local//NONSGML kigkonsult.se iCalcreator 2.10.5//
CALSCALE:GREGORIAN
X-WR-TIMEZONE:Europe/Dublin
BEGIN:VTIMEZONE
TZID:Etc/GMT-1
BEGIN:STANDARD
DTSTART:20010101T000000
TZOFFSETFROM:+0100
TZOFFSETTO:+0100
TZNAME:GMT +01:00
END:STANDARD
END:VTIMEZONE
BEGIN:VEVENT
UID:20260424T064354CEST-5068uL5GpU@horsealert.local
DTSTAMP:20260424T040454Z
CATEGORIES:Horse Alerts
DESCRIPTION:Dubai International Airport World Trophy \(Group 3\)
DTSTART:20140920T153000
LOCATION:England
SUMMARY:Horse Racing:Dubai International Airport World Trophy \(Group 3\)
END:VEVENT
END:VCALENDAR
