BEGIN:VCALENDAR
VERSION:2.0
PRODID:-//horsealert.local//NONSGML kigkonsult.se iCalcreator 2.10.5//
CALSCALE:GREGORIAN
X-WR-TIMEZONE:Europe/Dublin
BEGIN:VTIMEZONE
TZID:Etc/GMT-1
BEGIN:STANDARD
DTSTART:20010101T000000
TZOFFSETFROM:+0100
TZOFFSETTO:+0100
TZNAME:GMT +01:00
END:STANDARD
END:VTIMEZONE
BEGIN:VEVENT
UID:20260424T064339CEST-3607LUvgxW@horsealert.local
DTSTAMP:20260424T040439Z
CATEGORIES:Horse Alerts
DESCRIPTION:BAPP Group Of Companies Handicap \(Final Of 2014 Catterick Twel
 ve Furlong Series\)
DTSTART:20140920T163000
LOCATION:England
SUMMARY:Horse Racing:BAPP Group Of Companies Handicap \(Final Of 2014 Catte
 rick Twelve Furlong Series\)
END:VEVENT
END:VCALENDAR
